BEGIN:VCALENDAR
PRODID:-//Tak-Soft/EOL//NONSGML v1.0//EE
VERSION:2.0
BEGIN:VEVENT
SUMMARY:Orienteerumine::Orienteerumispäevak Pargijooksud
DESCRIPTION;ENCODING=QUOTED-PRINTABLE: Orienteerumispäevak Pargijooksud(Tabasalu) --OJ-Päevak
LOCATION:Tabasalu
DTSTART:20260429T173000
TRANSP:0
DTEND:
END:VEVENT
BEGIN:VTODO
DUE:T120000
DESCRIPTION:Registreeri -Orienteerumispäevak Pargijooksud
CATEGORIES:SPORT
END:VTODO
END:VCALENDAR
