BEGIN:VCALENDAR
PRODID:-//Tak-Soft/EOL//NONSGML v1.0//EE
VERSION:2.0
BEGIN:VEVENT
SUMMARY:Orienteerumine::PopUp orienteerumine Keila-Joal
DESCRIPTION;ENCODING=QUOTED-PRINTABLE: PopUp orienteerumine Keila-Joal(Keila-Joa) --OJ-Päevak
LOCATION:Keila-Joa
DTSTART:20260402T170000
TRANSP:0
DTEND:
URL:https://sakusuund.ee/
END:VEVENT
BEGIN:VTODO
DUE:T120000
DESCRIPTION:Registreeri -PopUp orienteerumine Keila-Joal
CATEGORIES:SPORT
URL:https://sakusuund.ee/
END:VTODO
END:VCALENDAR
