BEGIN:VCALENDAR
PRODID:-//Tak-Soft/EOL//NONSGML v1.0//EE
VERSION:2.0
BEGIN:VEVENT
SUMMARY:Orienteerumine::RMK Hooaja Avapäevak
DESCRIPTION;ENCODING=QUOTED-PRINTABLE: RMK Hooaja Avapäevak(Jõgeva) --OJ-Päevak
LOCATION:Jõgeva
DTSTART:20260407T090000
TRANSP:0
DTEND:
URL:https://paevakud.ee/?post_type=events&p=21378
END:VEVENT
BEGIN:VTODO
DUE:T120000
DESCRIPTION:Registreeri -RMK Hooaja Avapäevak
CATEGORIES:SPORT
URL:https://paevakud.ee/?post_type=events&p=21378
END:VTODO
END:VCALENDAR
