BEGIN:VCALENDAR
PRODID:-//Tak-Soft/EOL//NONSGML v1.0//EE
VERSION:2.0
BEGIN:VEVENT
SUMMARY:Orienteerumine::Saaremaa Neljapäevak
DESCRIPTION;ENCODING=QUOTED-PRINTABLE: Saaremaa Neljapäevak(Kuressaare Tervisepark) --OJ-Päevak
LOCATION:Kuressaare Tervisepark
DTSTART:20260416T160000
TRANSP:0
DTEND:
END:VEVENT
BEGIN:VTODO
DUE:T120000
DESCRIPTION:Registreeri -Saaremaa Neljapäevak
CATEGORIES:SPORT
END:VTODO
END:VCALENDAR
