BEGIN:VCALENDAR
PRODID:-//Tak-Soft/EOL//NONSGML v1.0//EE
VERSION:2.0
BEGIN:VEVENT
SUMMARY:Orienteerumine::Põlva 10. teisipäevak
DESCRIPTION;ENCODING=QUOTED-PRINTABLE: Põlva 10. teisipäevak(Kadaja) --OJ-Päevak
LOCATION:Kadaja
DTSTART:20260609T150000
TRANSP:0
DTEND:
URL:https://okkobras.eu/teisipaevakud/
END:VEVENT
BEGIN:VTODO
DUE:00000000T120000
DESCRIPTION:Registreeri -Põlva 10. teisipäevak
CATEGORIES:SPORT
URL:https://okkobras.eu/teisipaevakud/
END:VTODO
END:VCALENDAR
