BEGIN:VCALENDAR
PRODID:-//Tak-Soft/EOL//NONSGML v1.0//EE
VERSION:2.0
BEGIN:VEVENT
SUMMARY:Orienteerumine::XT Suverogain
DESCRIPTION;ENCODING=QUOTED-PRINTABLE: XT Suverogain() --OJ-Rogain
LOCATION:
DTSTART:20260711T120000
TRANSP:0
DTEND:
URL:http://www.xtsport.ee
END:VEVENT
BEGIN:VTODO
DUE:00000000T120000
DESCRIPTION:Registreeri -XT Suverogain
CATEGORIES:SPORT
URL:http://www.xtsport.ee
END:VTODO
END:VCALENDAR
