BEGIN:VCALENDAR
PRODID:-//Tak-Soft/EOL//NONSGML v1.0//EE
VERSION:2.0
BEGIN:VEVENT
SUMMARY:Orienteerumine::Saaremaa Neljapäevak
DESCRIPTION;ENCODING=QUOTED-PRINTABLE: Saaremaa Neljapäevak(Leedri) --OJ-Päevak
LOCATION:Leedri
DTSTART:20260702T160000
TRANSP:0
DTEND:
END:VEVENT
BEGIN:VTODO
DUE:00000000T120000
DESCRIPTION:Registreeri -Saaremaa Neljapäevak
CATEGORIES:SPORT
END:VTODO
END:VCALENDAR
