BEGIN:VCALENDAR
PRODID:-//Tak-Soft/EOL//NONSGML v1.0//EE
VERSION:2.0
BEGIN:VEVENT
SUMMARY:Orienteerumine::Punktipeitus 6. etapp
DESCRIPTION;ENCODING=QUOTED-PRINTABLE: Punktipeitus 6. etapp(Haapsalu Piiskopilinnus) --OJ-Seeriavõistlus
LOCATION:Haapsalu Piiskopilinnus
DTSTART:20260421T170000
TRANSP:0
DTEND:
URL:https://www.ok-okas.ee/
END:VEVENT
BEGIN:VTODO
DUE:T120000
DESCRIPTION:Registreeri -Punktipeitus 6. etapp
CATEGORIES:SPORT
URL:https://www.ok-okas.ee/
END:VTODO
END:VCALENDAR
