BEGIN:VCALENDAR
PRODID:-//Tak-Soft/EOL//NONSGML v1.0//EE
VERSION:2.0
BEGIN:VEVENT
SUMMARY:Orienteerumine::Linnaorienteerumine
DESCRIPTION;ENCODING=QUOTED-PRINTABLE: Linnaorienteerumine(Tallinn) --OJ-Päevak
LOCATION:Tallinn
DTSTART:20260615T170000
TRANSP:0
DTEND:
URL:https://www.linnaorienteerumine.ee
END:VEVENT
BEGIN:VTODO
DUE:20260615T120000
DESCRIPTION:Registreeri -Linnaorienteerumine
CATEGORIES:SPORT
URL:https://www.linnaorienteerumine.ee
END:VTODO
END:VCALENDAR
