BEGIN:VCALENDAR
PRODID:-//Tak-Soft/EOL//NONSGML v1.0//EE
VERSION:2.0
BEGIN:VEVENT
SUMMARY:Orienteerumine::Läänemaa orienteerumiskolmapäevakud
DESCRIPTION;ENCODING=QUOTED-PRINTABLE: Läänemaa orienteerumiskolmapäevakud() --OJ-Päevak
LOCATION:
DTSTART:20260603T170000
TRANSP:0
DTEND:
END:VEVENT
BEGIN:VTODO
DUE:00000000T120000
DESCRIPTION:Registreeri -Läänemaa orienteerumiskolmapäevakud
CATEGORIES:SPORT
END:VTODO
END:VCALENDAR
