BEGIN:VCALENDAR
PRODID:-//Tak-Soft/EOL//NONSGML v1.0//EE
VERSION:2.0
BEGIN:VEVENT
SUMMARY:Orienteerumine::Tallinn Open. Tallinna MV lühirada
DESCRIPTION;ENCODING=QUOTED-PRINTABLE: Tallinn Open. Tallinna MV lühirada(Aude) --OJ-Individuaalne
LOCATION:Aude
DTSTART:20260627T140000
TRANSP:0
DTEND:
URL:https://www.ton.ee
END:VEVENT
BEGIN:VTODO
DUE:T120000
DESCRIPTION:Registreeri -Tallinn Open. Tallinna MV lühirada
CATEGORIES:SPORT
URL:https://www.ton.ee
END:VTODO
END:VCALENDAR
