BEGIN:VCALENDAR
PRODID:-//Tak-Soft/EOL//NONSGML v1.0//EE
VERSION:2.0
BEGIN:VEVENT
SUMMARY:Orienteerumine::15. Tallinna Teisipäevak
DESCRIPTION;ENCODING=QUOTED-PRINTABLE: 15. Tallinna Teisipäevak(Tallinn ) --OJ/RO -Päevak
LOCATION:Tallinn 
DTSTART:20260721T170000
TRANSP:0
DTEND:
URL:https://www.oknomme.ee/
END:VEVENT
BEGIN:VTODO
DUE:20260721T120000
DESCRIPTION:Registreeri -15. Tallinna Teisipäevak
CATEGORIES:SPORT
URL:https://www.oknomme.ee/
END:VTODO
END:VCALENDAR
