BEGIN:VCALENDAR
PRODID:-//Tak-Soft/EOL//NONSGML v1.0//EE
VERSION:2.0
BEGIN:VEVENT
SUMMARY:Orienteerumine::14. Tallinna Teisipäevak
DESCRIPTION;ENCODING=QUOTED-PRINTABLE: 14. Tallinna Teisipäevak(Tallinn ) --OJ/RO -Päevak
LOCATION:Tallinn 
DTSTART:20260714T170000
TRANSP:0
DTEND:
URL:https://www.oknomme.ee/
END:VEVENT
BEGIN:VTODO
DUE:20260714T120000
DESCRIPTION:Registreeri -14. Tallinna Teisipäevak
CATEGORIES:SPORT
URL:https://www.oknomme.ee/
END:VTODO
END:VCALENDAR
