BEGIN:VCALENDAR
PRODID:-//Tak-Soft/EOL//NONSGML v1.0//EE
VERSION:2.0
BEGIN:VEVENT
SUMMARY:Orienteerumine::12. Tallinna Teisipäevak
DESCRIPTION;ENCODING=QUOTED-PRINTABLE: 12. Tallinna Teisipäevak(Tallinn ) --OJ/RO -Päevak
LOCATION:Tallinn 
DTSTART:20260630T170000
TRANSP:0
DTEND:
URL:https://www.oknomme.ee/
END:VEVENT
BEGIN:VTODO
DUE:20260630T120000
DESCRIPTION:Registreeri -12. Tallinna Teisipäevak
CATEGORIES:SPORT
URL:https://www.oknomme.ee/
END:VTODO
END:VCALENDAR
