BEGIN:VCALENDAR
PRODID:-//Tak-Soft/EOL//NONSGML v1.0//EE
VERSION:2.0
BEGIN:VEVENT
SUMMARY:Orienteerumine:: Orienteerumispäevak Pargijooksud
DESCRIPTION;ENCODING=QUOTED-PRINTABLE:  Orienteerumispäevak Pargijooksud(Tallinn ) --OJ/RO -Päevak
LOCATION:Tallinn 
DTSTART:20260708T173000
TRANSP:0
DTEND:
URL:https://www.oknomme.ee/
END:VEVENT
BEGIN:VTODO
DUE:20260708T120000
DESCRIPTION:Registreeri - Orienteerumispäevak Pargijooksud
CATEGORIES:SPORT
URL:https://www.oknomme.ee/
END:VTODO
END:VCALENDAR
