BEGIN:VCALENDAR
PRODID:-//Tak-Soft/EOL//NONSGML v1.0//EE
VERSION:2.0
BEGIN:VEVENT
SUMMARY:Orienteerumine::Hiiumaa neljapäevak
DESCRIPTION;ENCODING=QUOTED-PRINTABLE: Hiiumaa neljapäevak(Kaibaldi, Liiviku infoste) --OJ-Päevak
LOCATION:Kaibaldi, Liiviku infoste
DTSTART:20260723T170000
TRANSP:0
DTEND:
END:VEVENT
BEGIN:VTODO
DUE:00000000T120000
DESCRIPTION:Registreeri -Hiiumaa neljapäevak
CATEGORIES:SPORT
END:VTODO
END:VCALENDAR
