BEGIN:VCALENDAR
PRODID:-//Tak-Soft/EOL//NONSGML v1.0//EE
VERSION:2.0
BEGIN:VEVENT
SUMMARY:Orienteerumine::7. Valgamaa päevak 2026
DESCRIPTION;ENCODING=QUOTED-PRINTABLE: 7. Valgamaa päevak 2026() --OJ-Päevak
LOCATION:
DTSTART:20260708T150000
TRANSP:0
DTEND:
URL:https://team.aarain.ee/7-paevak-2026
END:VEVENT
BEGIN:VTODO
DUE:20260708T120000
DESCRIPTION:Registreeri -7. Valgamaa päevak 2026
CATEGORIES:SPORT
URL:https://team.aarain.ee/7-paevak-2026
END:VTODO
END:VCALENDAR
