BEGIN:VCALENDAR
PRODID:-//Tak-Soft/EOL//NONSGML v1.0//EE
VERSION:2.0
BEGIN:VEVENT
SUMMARY:Orienteerumine::6. Valgamaa päevak 2026
DESCRIPTION;ENCODING=QUOTED-PRINTABLE: 6. Valgamaa päevak 2026() --OJ-Päevak
LOCATION:
DTSTART:20260701T150000
TRANSP:0
DTEND:
URL:https://team.aarain.ee/6-paevak-2026
END:VEVENT
BEGIN:VTODO
DUE:20260701T120000
DESCRIPTION:Registreeri -6. Valgamaa päevak 2026
CATEGORIES:SPORT
URL:https://team.aarain.ee/6-paevak-2026
END:VTODO
END:VCALENDAR
