BEGIN:VCALENDAR
PRODID:-//Tak-Soft/EOL//NONSGML v1.0//EE
VERSION:2.0
BEGIN:VEVENT
SUMMARY:Orienteerumine::3. Valgamaa päevak 2026
DESCRIPTION;ENCODING=QUOTED-PRINTABLE: 3. Valgamaa päevak 2026() --OJ-Päevak
LOCATION:
DTSTART:20260610T150000
TRANSP:0
DTEND:
URL:https://team.aarain.ee/3-paevak-2026
END:VEVENT
BEGIN:VTODO
DUE:20260610T120000
DESCRIPTION:Registreeri -3. Valgamaa päevak 2026
CATEGORIES:SPORT
URL:https://team.aarain.ee/3-paevak-2026
END:VTODO
END:VCALENDAR
