BEGIN:VCALENDAR
PRODID:-//Tak-Soft/EOL//NONSGML v1.0//EE
VERSION:2.0
BEGIN:VEVENT
SUMMARY:Orienteerumine::Võrumaa kolmapäevak
DESCRIPTION;ENCODING=QUOTED-PRINTABLE: Võrumaa kolmapäevak(Osula-Harjumäe) --OJ-Päevak
LOCATION:Osula-Harjumäe
DTSTART:20260415T150000
TRANSP:0
DTEND:
URL:https://www.okvoru.ee/orienteerumispaevakud/
END:VEVENT
BEGIN:VTODO
DUE:20260415T120000
DESCRIPTION:Registreeri -Võrumaa kolmapäevak
CATEGORIES:SPORT
URL:https://www.okvoru.ee/orienteerumispaevakud/
END:VTODO
END:VCALENDAR
