BEGIN:VCALENDAR
PRODID:-//Tak-Soft/EOL//NONSGML v1.0//EE
VERSION:2.0
BEGIN:VEVENT
SUMMARY:Orienteerumine::Pärnumaa neljapäevak
DESCRIPTION;ENCODING=QUOTED-PRINTABLE: Pärnumaa neljapäevak(Mai) --OJ-Päevak
LOCATION:Mai
DTSTART:20260416T170000
TRANSP:0
DTEND:
URL:https://www.okwest.ee
END:VEVENT
BEGIN:VTODO
DUE:20260416T120000
DESCRIPTION:Registreeri -Pärnumaa neljapäevak
CATEGORIES:SPORT
URL:https://www.okwest.ee
END:VTODO
END:VCALENDAR
