BEGIN:VCALENDAR
PRODID:-//Tak-Soft/EOL//NONSGML v1.0//EE
VERSION:2.0
BEGIN:VEVENT
SUMMARY:Orienteerumine::Tartu neljapäevak
DESCRIPTION;ENCODING=QUOTED-PRINTABLE: Tartu neljapäevak(Illipalu) --OJ-Päevak
LOCATION:Illipalu
DTSTART:20260604T160000
TRANSP:0
DTEND:
URL:https://www.okilves.ee
END:VEVENT
BEGIN:VTODO
DUE:20260604T120000
DESCRIPTION:Registreeri -Tartu neljapäevak
CATEGORIES:SPORT
URL:https://www.okilves.ee
END:VTODO
END:VCALENDAR
