BEGIN:VCALENDAR
PRODID:-//Tak-Soft/EOL//NONSGML v1.0//EE
VERSION:2.0
BEGIN:VEVENT
SUMMARY:Orienteerumine::Tallinna Neljapäevak
DESCRIPTION;ENCODING=QUOTED-PRINTABLE: Tallinna Neljapäevak(Kotka - Nõmmeveski) --OJ-Päevak
LOCATION:Kotka - Nõmmeveski
DTSTART:20260702T170000
TRANSP:0
DTEND:
URL:https://www.ton.ee
END:VEVENT
BEGIN:VTODO
DUE:20260702T120000
DESCRIPTION:Registreeri -Tallinna Neljapäevak
CATEGORIES:SPORT
URL:https://www.ton.ee
END:VTODO
END:VCALENDAR
