BEGIN:VCALENDAR
PRODID:-//Tak-Soft/EOL//NONSGML v1.0//EE
VERSION:2.0
BEGIN:VEVENT
SUMMARY:Orienteerumine::Tallinna Neljapäevak
DESCRIPTION;ENCODING=QUOTED-PRINTABLE: Tallinna Neljapäevak(Kolgaküla) --OJ-Päevak
LOCATION:Kolgaküla
DTSTART:20260604T170000
TRANSP:0
DTEND:
URL:https://www.ton.ee
END:VEVENT
BEGIN:VTODO
DUE:20260604T120000
DESCRIPTION:Registreeri -Tallinna Neljapäevak
CATEGORIES:SPORT
URL:https://www.ton.ee
END:VTODO
END:VCALENDAR
