BEGIN:VCALENDAR
PRODID:-//Tak-Soft/EOL//NONSGML v1.0//EE
VERSION:2.0
BEGIN:VEVENT
SUMMARY:Orienteerumine::Põlva 16. teisipäevak
DESCRIPTION;ENCODING=QUOTED-PRINTABLE: Põlva 16. teisipäevak(Kooraste) --OJ-Päevak
LOCATION:Kooraste
DTSTART:20260721T150000
TRANSP:0
DTEND:
URL:https://okkobras.eu/teisipaevakud/
END:VEVENT
BEGIN:VTODO
DUE:00000000T120000
DESCRIPTION:Registreeri -Põlva 16. teisipäevak
CATEGORIES:SPORT
URL:https://okkobras.eu/teisipaevakud/
END:VTODO
END:VCALENDAR
