BEGIN:VCALENDAR
PRODID:-//Tak-Soft/EOL//NONSGML v1.0//EE
VERSION:2.0
BEGIN:VEVENT
SUMMARY:Orienteerumine::Põlva 13. teisipäevak
DESCRIPTION;ENCODING=QUOTED-PRINTABLE: Põlva 13. teisipäevak(Kiidjärve) --OJ-Päevak
LOCATION:Kiidjärve
DTSTART:20260630T150000
TRANSP:0
DTEND:
URL:https://okkobras.eu/teisipaevakud/
END:VEVENT
BEGIN:VTODO
DUE:00000000T120000
DESCRIPTION:Registreeri -Põlva 13. teisipäevak
CATEGORIES:SPORT
URL:https://okkobras.eu/teisipaevakud/
END:VTODO
END:VCALENDAR
