BEGIN:VCALENDAR
PRODID:-//Tak-Soft/EOL//NONSGML v1.0//EE
VERSION:2.0
BEGIN:VEVENT
SUMMARY:Orienteerumine::Põlva maakonna MV öine
DESCRIPTION;ENCODING=QUOTED-PRINTABLE: Põlva maakonna MV öine(Palojärve) --OJ-Öine
LOCATION:Palojärve
DTSTART:20260410T210000
TRANSP:0
DTEND:
URL:https://okkobras.eu/korraldame/polva-maakonna-lahtised-mv-oises/
END:VEVENT
BEGIN:VTODO
DUE:20260406T120000
DESCRIPTION:Registreeri -Põlva maakonna MV öine
CATEGORIES:SPORT
URL:https://okkobras.eu/korraldame/polva-maakonna-lahtised-mv-oises/
END:VTODO
END:VCALENDAR
