BEGIN:VCALENDAR
PRODID:-//Tak-Soft/EOL//NONSGML v1.0//EE
VERSION:2.0
BEGIN:VEVENT
SUMMARY:Orienteerumine:: 65. Jüriööjooks
DESCRIPTION;ENCODING=QUOTED-PRINTABLE:  65. Jüriööjooks(Palivere) --OJ-Teade
LOCATION:Palivere
DTSTART:20260418T180000
TRANSP:0
DTEND:
URL:https://harjuok.ee/65-jurioojooks/
END:VEVENT
BEGIN:VTODO
DUE:20260413T120000
DESCRIPTION:Registreeri - 65. Jüriööjooks
CATEGORIES:SPORT
URL:https://harjuok.ee/65-jurioojooks/
END:VTODO
END:VCALENDAR
