BEGIN:VCALENDAR
PRODID:-//Tak-Soft/EOL//NONSGML v1.0//EE
VERSION:2.0
BEGIN:VEVENT
SUMMARY:Orienteerumine::Järvamaa päevak
DESCRIPTION;ENCODING=QUOTED-PRINTABLE: Järvamaa päevak(Kellissaare) --OJ-Päevak
LOCATION:Kellissaare
DTSTART:20260609T170000
TRANSP:0
DTEND:
URL:http://www.joka.ee
END:VEVENT
BEGIN:VTODO
DUE:00000000T120000
DESCRIPTION:Registreeri -Järvamaa päevak
CATEGORIES:SPORT
URL:http://www.joka.ee
END:VTODO
END:VCALENDAR
