BEGIN:VCALENDAR
PRODID:-//Tak-Soft/EOL//NONSGML v1.0//EE
VERSION:2.0
BEGIN:VEVENT
SUMMARY:Orienteerumine::Narva kolmapäevak
DESCRIPTION;ENCODING=QUOTED-PRINTABLE: Narva kolmapäevak(Riigiküla) --OJ-Päevak
LOCATION:Riigiküla
DTSTART:20260617T180000
TRANSP:0
DTEND:
URL:https://narvaorient.blogspot.com/
END:VEVENT
BEGIN:VTODO
DUE:00000000T120000
DESCRIPTION:Registreeri -Narva kolmapäevak
CATEGORIES:SPORT
URL:https://narvaorient.blogspot.com/
END:VTODO
END:VCALENDAR
