BEGIN:VCALENDAR
PRODID:-//Tak-Soft/EOL//NONSGML v1.0//EE
VERSION:2.0
BEGIN:VEVENT
SUMMARY:Orienteerumine::Viljandimaa orienteerumispäevak
DESCRIPTION;ENCODING=QUOTED-PRINTABLE: Viljandimaa orienteerumispäevak(Uueveski) --OJ-Päevak
LOCATION:Uueveski
DTSTART:20260408T170000
TRANSP:0
DTEND:
URL:https://lehola.weebly.com/
END:VEVENT
BEGIN:VTODO
DUE:00000000T120000
DESCRIPTION:Registreeri -Viljandimaa orienteerumispäevak
CATEGORIES:SPORT
URL:https://lehola.weebly.com/
END:VTODO
END:VCALENDAR
