BEGIN:VCALENDAR
PRODID:-//Tak-Soft/EOL//NONSGML v1.0//EE
VERSION:2.0
BEGIN:VEVENT
SUMMARY:Orienteerumine::Rapla päevak
DESCRIPTION;ENCODING=QUOTED-PRINTABLE: Rapla päevak(Varbola) --OJ-Päevak
LOCATION:Varbola
DTSTART:20260722T170000
TRANSP:0
DTEND:
END:VEVENT
BEGIN:VTODO
DUE:00000000T120000
DESCRIPTION:Registreeri -Rapla päevak
CATEGORIES:SPORT
END:VTODO
END:VCALENDAR
