BEGIN:VCALENDAR
PRODID:-//Tak-Soft/EOL//NONSGML v1.0//EE
VERSION:2.0
BEGIN:VEVENT
SUMMARY:Orienteerumine::Rogaini Euroopa meistrivõistlused
DESCRIPTION;ENCODING=QUOTED-PRINTABLE: Rogaini Euroopa meistrivõistlused(Orlické Záhoří, Tšehhi) ----Rogain
LOCATION:Orlické Záhoří, Tšehhi
DTSTART:20260627T120000
TRANSP:0
DTEND:
URL:https://www.o-adventure.cz/stranka.php?co=2026erc
END:VEVENT
BEGIN:VTODO
DUE:00000000T120000
DESCRIPTION:Registreeri -Rogaini Euroopa meistrivõistlused
CATEGORIES:SPORT
URL:https://www.o-adventure.cz/stranka.php?co=2026erc
END:VTODO
END:VCALENDAR
