BEGIN:VCALENDAR
PRODID:-//Tak-Soft/EOL//NONSGML v1.0//EE
VERSION:2.0
BEGIN:VEVENT
SUMMARY:Orienteerumine::Lääne-Virumaa kolmapäevak
DESCRIPTION;ENCODING=QUOTED-PRINTABLE: Lääne-Virumaa kolmapäevak(Oruveski) --OJ-Päevak
LOCATION:Oruveski
DTSTART:20260603T163000
TRANSP:0
DTEND:
END:VEVENT
BEGIN:VTODO
DUE:00000000T120000
DESCRIPTION:Registreeri -Lääne-Virumaa kolmapäevak
CATEGORIES:SPORT
END:VTODO
END:VCALENDAR
