BEGIN:VCALENDAR
PRODID:-//Tak-Soft/EOL//NONSGML v1.0//EE
VERSION:2.0
BEGIN:VEVENT
SUMMARY:Orienteerumine::Lääne-Virumaa kolmapäevak
DESCRIPTION;ENCODING=QUOTED-PRINTABLE: Lääne-Virumaa kolmapäevak(Rakvere Spordikeskus) --OJ-Päevak
LOCATION:Rakvere Spordikeskus
DTSTART:20260408T163000
TRANSP:0
DTEND:
END:VEVENT
BEGIN:VTODO
DUE:T120000
DESCRIPTION:Registreeri -Lääne-Virumaa kolmapäevak
CATEGORIES:SPORT
END:VTODO
END:VCALENDAR
