BEGIN:VCALENDAR
PRODID:-//Tak-Soft/EOL//NONSGML v1.0//EE
VERSION:2.0
BEGIN:VEVENT
SUMMARY:Orienteerumine::Eesti MV MN21 teade
DESCRIPTION;ENCODING=QUOTED-PRINTABLE: Eesti MV MN21 teade(Keibu) --OJ-Teade
LOCATION:Keibu
DTSTART:20260607T120000
TRANSP:0
DTEND:
END:VEVENT
BEGIN:VTODO
DUE:00000000T120000
DESCRIPTION:Registreeri -Eesti MV MN21 teade
CATEGORIES:SPORT
END:VTODO
END:VCALENDAR
