BEGIN:VCALENDAR
PRODID:-//Tak-Soft/EOL//NONSGML v1.0//EE
VERSION:2.0
BEGIN:VEVENT
SUMMARY:Orienteerumine::Eesti MV lühirada
DESCRIPTION;ENCODING=QUOTED-PRINTABLE: Eesti MV lühirada(Keibu) --OJ-Individuaalne
LOCATION:Keibu
DTSTART:20260606T120000
TRANSP:0
DTEND:
END:VEVENT
BEGIN:VTODO
DUE:00000000T120000
DESCRIPTION:Registreeri -Eesti MV lühirada
CATEGORIES:SPORT
END:VTODO
END:VCALENDAR
